BEGIN:VCALENDAR
VERSION:2.0
PRODID:-//Учреждение культуры &quot;Библиотечная система города Бобруйска&quot; - ECPv6.15.20//NONSGML v1.0//EN
CALSCALE:GREGORIAN
METHOD:PUBLISH
X-ORIGINAL-URL:https://bobruisk-library.by
X-WR-CALDESC:Мероприятия для Учреждение культуры &quot;Библиотечная система города Бобруйска&quot;
REFRESH-INTERVAL;VALUE=DURATION:PT1H
X-Robots-Tag:noindex
X-PUBLISHED-TTL:PT1H
BEGIN:VTIMEZONE
TZID:Europe/Moscow
BEGIN:STANDARD
TZOFFSETFROM:+0300
TZOFFSETTO:+0300
TZNAME:MSK
DTSTART:20250101T000000
END:STANDARD
END:VTIMEZONE
BEGIN:VEVENT
DTSTART;TZID=Europe/Moscow:20260128T134500
DTEND;TZID=Europe/Moscow:20260128T143000
DTSTAMP:20260420T131654
CREATED:20260121T071020Z
LAST-MODIFIED:20260126T070853Z
UID:890935-1769607900-1769610600@bobruisk-library.by
SUMMARY:Час памяти «Свеча горит и освещает память» (27.01.– Международный день памяти жертв Холокоста) 6+
DESCRIPTION:
URL:https://bobruisk-library.by/event/%d1%87%d0%b0%d1%81-%d0%bf%d0%b0%d0%bc%d1%8f%d1%82%d0%b8-%d1%81%d0%b2%d0%b5%d1%87%d0%b0-%d0%b3%d0%be%d1%80%d0%b8%d1%82-%d0%b8-%d0%be%d1%81%d0%b2%d0%b5%d1%89%d0%b0%d0%b5%d1%82-%d0%bf%d0%b0%d0%bc/
LOCATION:ЦГБ им. М.Горького\, ул. Советская\, 64\, Бобруйск\, 213826\, Беларусь
END:VEVENT
BEGIN:VEVENT
DTSTART;TZID=Europe/Moscow:20260128T142000
DTEND;TZID=Europe/Moscow:20260128T153000
DTSTAMP:20260420T131654
CREATED:20260121T070016Z
LAST-MODIFIED:20260121T070016Z
UID:890923-1769610000-1769614200@bobruisk-library.by
SUMMARY:Литературный портрет «Иван Шамякин. Летописец эпохи» (30.01. – 105 лет со дня рождения белорусского классика) 6+
DESCRIPTION:
URL:https://bobruisk-library.by/event/%d0%bb%d0%b8%d1%82%d0%b5%d1%80%d0%b0%d1%82%d1%83%d1%80%d0%bd%d1%8b%d0%b9-%d0%bf%d0%be%d1%80%d1%82%d1%80%d0%b5%d1%82-%d0%b8%d0%b2%d0%b0%d0%bd-%d1%88%d0%b0%d0%bc%d1%8f%d0%ba%d0%b8%d0%bd-%d0%bb/
LOCATION:ГБ №7 им. А.А.Шогенцукова\, ул. Интернациональная\, 72в\, Бобруйск\, 213819
END:VEVENT
END:VCALENDAR