BEGIN:VCALENDAR
VERSION:2.0
PRODID:-//Учреждение культуры &quot;Библиотечная система города Бобруйска&quot; - ECPv6.15.20//NONSGML v1.0//EN
CALSCALE:GREGORIAN
METHOD:PUBLISH
X-WR-CALNAME:Учреждение культуры &quot;Библиотечная система города Бобруйска&quot;
X-ORIGINAL-URL:https://bobruisk-library.by
X-WR-CALDESC:Мероприятия для Учреждение культуры &quot;Библиотечная система города Бобруйска&quot;
REFRESH-INTERVAL;VALUE=DURATION:PT1H
X-Robots-Tag:noindex
X-PUBLISHED-TTL:PT1H
BEGIN:VTIMEZONE
TZID:Europe/Moscow
BEGIN:STANDARD
TZOFFSETFROM:+0300
TZOFFSETTO:+0300
TZNAME:MSK
DTSTART:20250101T000000
END:STANDARD
END:VTIMEZONE
BEGIN:VEVENT
DTSTART;TZID=Europe/Moscow:20260210T130000
DTEND;TZID=Europe/Moscow:20260210T140000
DTSTAMP:20260420T131610
CREATED:20260204T060115Z
LAST-MODIFIED:20260204T060115Z
UID:891118-1770728400-1770732000@bobruisk-library.by
SUMMARY:Час мужества «В их  судьбе была война» (15  февраля – День памяти воинов- интернационалистов); в рамках цикла патриотических мероприятий и выставок «Память жива» ко Дню памяти воинов- интернационалистов) 6+
DESCRIPTION:
URL:https://bobruisk-library.by/event/%d1%87%d0%b0%d1%81-%d0%bc%d1%83%d0%b6%d0%b5%d1%81%d1%82%d0%b2%d0%b0-%d0%b2-%d0%b8%d1%85-%d1%81%d1%83%d0%b4%d1%8c%d0%b1%d0%b5-%d0%b1%d1%8b%d0%bb%d0%b0-%d0%b2%d0%be%d0%b9%d0%bd%d0%b0-15/
LOCATION:ГБ №8 им. Е. Полоцкой\, ул. Минская\, 90\, Бобруйск\, 213828\, Беларусь
END:VEVENT
END:VCALENDAR