BEGIN:VCALENDAR
VERSION:2.0
PRODID:-//Учреждение культуры &quot;Библиотечная система города Бобруйска&quot; - ECPv6.15.20//NONSGML v1.0//EN
CALSCALE:GREGORIAN
METHOD:PUBLISH
X-WR-CALNAME:Учреждение культуры &quot;Библиотечная система города Бобруйска&quot;
X-ORIGINAL-URL:https://bobruisk-library.by
X-WR-CALDESC:Мероприятия для Учреждение культуры &quot;Библиотечная система города Бобруйска&quot;
REFRESH-INTERVAL;VALUE=DURATION:PT1H
X-Robots-Tag:noindex
X-PUBLISHED-TTL:PT1H
BEGIN:VTIMEZONE
TZID:Europe/Moscow
BEGIN:STANDARD
TZOFFSETFROM:+0300
TZOFFSETTO:+0300
TZNAME:MSK
DTSTART:20250101T000000
END:STANDARD
END:VTIMEZONE
BEGIN:VEVENT
DTSTART;TZID=Europe/Moscow:20260212T110000
DTEND;TZID=Europe/Moscow:20260212T120000
DTSTAMP:20260420T131700
CREATED:20260204T060436Z
LAST-MODIFIED:20260204T060436Z
UID:891124-1770894000-1770897600@bobruisk-library.by
SUMMARY:Урок мужества  «Афганистан – живая  память» (ко Дню памяти воинов-интернационалистов; в рамках проекта «Территория равных возможностей») 6+
DESCRIPTION:
URL:https://bobruisk-library.by/event/%d1%83%d1%80%d0%be%d0%ba-%d0%bc%d1%83%d0%b6%d0%b5%d1%81%d1%82%d0%b2%d0%b0-%d0%b0%d1%84%d0%b3%d0%b0%d0%bd%d0%b8%d1%81%d1%82%d0%b0%d0%bd-%d0%b6%d0%b8%d0%b2%d0%b0%d1%8f-%d0%bf%d0%b0/
LOCATION:ЦДБ им. А.П.Гайдара\, ул. Урицкого\, 125\, Бобруйск\, 213809\, Беларусь
END:VEVENT
BEGIN:VEVENT
DTSTART;TZID=Europe/Moscow:20260212T130000
DTEND;TZID=Europe/Moscow:20260212T140000
DTSTAMP:20260420T131700
CREATED:20260204T060557Z
LAST-MODIFIED:20260204T060557Z
UID:891126-1770901200-1770904800@bobruisk-library.by
SUMMARY:Познавательный час «Звуки эфира» (13.02. – Всемирный день радио) 6+
DESCRIPTION:
URL:https://bobruisk-library.by/event/%d0%bf%d0%be%d0%b7%d0%bd%d0%b0%d0%b2%d0%b0%d1%82%d0%b5%d0%bb%d1%8c%d0%bd%d1%8b%d0%b9-%d1%87%d0%b0%d1%81-%d0%b7%d0%b2%d1%83%d0%ba%d0%b8-%d1%8d%d1%84%d0%b8%d1%80%d0%b0-13-02/
LOCATION:ЦГБ им. М.Горького\, ул. Советская\, 64\, Бобруйск\, 213826\, Беларусь
END:VEVENT
BEGIN:VEVENT
DTSTART;TZID=Europe/Moscow:20260212T140000
DTEND;TZID=Europe/Moscow:20260212T150000
DTSTAMP:20260420T131700
CREATED:20260204T060158Z
LAST-MODIFIED:20260204T060158Z
UID:891120-1770904800-1770908400@bobruisk-library.by
SUMMARY:Патриотический час «Беларусь – страна героев!» 6+
DESCRIPTION:
URL:https://bobruisk-library.by/event/%d0%bf%d0%b0%d1%82%d1%80%d0%b8%d0%be%d1%82%d0%b8%d1%87%d0%b5%d1%81%d0%ba%d0%b8%d0%b9-%d1%87%d0%b0%d1%81-%d0%b1%d0%b5%d0%bb%d0%b0%d1%80%d1%83%d1%81%d1%8c-%d1%81%d1%82%d1%80%d0%b0%d0%bd-3/
LOCATION:ГБ №8 им. Е. Полоцкой\, ул. Минская\, 90\, Бобруйск\, 213828\, Беларусь
END:VEVENT
END:VCALENDAR