BEGIN:VCALENDAR
VERSION:2.0
PRODID:-//Учреждение культуры &quot;Библиотечная система города Бобруйска&quot; - ECPv6.15.20//NONSGML v1.0//EN
CALSCALE:GREGORIAN
METHOD:PUBLISH
X-ORIGINAL-URL:https://bobruisk-library.by
X-WR-CALDESC:Мероприятия для Учреждение культуры &quot;Библиотечная система города Бобруйска&quot;
REFRESH-INTERVAL;VALUE=DURATION:PT1H
X-Robots-Tag:noindex
X-PUBLISHED-TTL:PT1H
BEGIN:VTIMEZONE
TZID:Europe/Moscow
BEGIN:STANDARD
TZOFFSETFROM:+0300
TZOFFSETTO:+0300
TZNAME:MSK
DTSTART:20250101T000000
END:STANDARD
END:VTIMEZONE
BEGIN:VEVENT
DTSTART;VALUE=DATE:20260216
DTEND;VALUE=DATE:20260223
DTSTAMP:20260420T131652
CREATED:20260211T060743Z
LAST-MODIFIED:20260211T060743Z
UID:891205-1771200000-1771804799@bobruisk-library.by
SUMMARY:Акция «Перакладзі слова – успомні мову» 6+
DESCRIPTION:
URL:https://bobruisk-library.by/event/%d0%b0%d0%ba%d1%86%d0%b8%d1%8f-%d0%bf%d0%b5%d1%80%d0%b0%d0%ba%d0%bb%d0%b0%d0%b4%d0%b7%d1%96-%d1%81%d0%bb%d0%be%d0%b2%d0%b0-%d1%83%d1%81%d0%bf%d0%be%d0%bc%d0%bd%d1%96-%d0%bc%d0%be%d0%b2/
LOCATION:ЦГБ им. М.Горького\, ул. Советская\, 64\, Бобруйск\, 213826\, Беларусь
END:VEVENT
BEGIN:VEVENT
DTSTART;TZID=Europe/Moscow:20260219T100000
DTEND;TZID=Europe/Moscow:20260219T110000
DTSTAMP:20260420T131652
CREATED:20260211T054359Z
LAST-MODIFIED:20260211T054359Z
UID:891195-1771495200-1771498800@bobruisk-library.by
SUMMARY:Литературное путешествие “Роднага  краю казкі – чытай калі ласка” (в рамках библиотечной акции “Роднай мовы гук чароўны”) 6+
DESCRIPTION:
URL:https://bobruisk-library.by/event/%d0%bb%d0%b8%d1%82%d0%b5%d1%80%d0%b0%d1%82%d1%83%d1%80%d0%bd%d0%be%d0%b5-%d0%bf%d1%83%d1%82%d0%b5%d1%88%d0%b5%d1%81%d1%82%d0%b2%d0%b8%d0%b5-%d1%80%d0%be%d0%b4%d0%bd%d0%b0%d0%b3%d0%b0-%d0%ba/
LOCATION:ГБ №16\, ул. Гагарина\, 31а\, Бобруйск\, 213810\, Беларусь
END:VEVENT
BEGIN:VEVENT
DTSTART;TZID=Europe/Moscow:20260219T103000
DTEND;TZID=Europe/Moscow:20260219T113000
DTSTAMP:20260420T131652
CREATED:20260211T061713Z
LAST-MODIFIED:20260211T061713Z
UID:891221-1771497000-1771500600@bobruisk-library.by
SUMMARY:Сказочная информина  “Сцежкамі беларускіх  казак” (21 февраля – Международный день родного языка); (в рамках библиотечной акции “Роднай мовы гук чароўны”) 6+
DESCRIPTION:
URL:https://bobruisk-library.by/event/%d1%81%d0%ba%d0%b0%d0%b7%d0%be%d1%87%d0%bd%d0%b0%d1%8f-%d0%b8%d0%bd%d1%84%d0%be%d1%80%d0%bc%d0%b8%d0%bd%d0%b0-%d1%81%d1%86%d0%b5%d0%b6%d0%ba%d0%b0%d0%bc%d1%96-%d0%b1%d0%b5%d0%bb%d0%b0%d1%80/
LOCATION:ГБ №8 им. Е. Полоцкой\, ул. Минская\, 90\, Бобруйск\, 213828\, Беларусь
END:VEVENT
BEGIN:VEVENT
DTSTART;TZID=Europe/Moscow:20260219T120000
DTEND;TZID=Europe/Moscow:20260219T130000
DTSTAMP:20260420T131652
CREATED:20260211T061803Z
LAST-MODIFIED:20260211T061803Z
UID:891223-1771502400-1771506000@bobruisk-library.by
SUMMARY:Познавательный час  «Здравствуй\, Масленица» 6+
DESCRIPTION:
URL:https://bobruisk-library.by/event/%d0%bf%d0%be%d0%b7%d0%bd%d0%b0%d0%b2%d0%b0%d1%82%d0%b5%d0%bb%d1%8c%d0%bd%d1%8b%d0%b9-%d1%87%d0%b0%d1%81-%d0%b7%d0%b4%d1%80%d0%b0%d0%b2%d1%81%d1%82%d0%b2%d1%83%d0%b9-%d0%bc%d0%b0%d1%81%d0%bb/
LOCATION:ГБ №8 им. Е. Полоцкой\, ул. Минская\, 90\, Бобруйск\, 213828\, Беларусь
END:VEVENT
BEGIN:VEVENT
DTSTART;TZID=Europe/Moscow:20260219T130000
DTEND;TZID=Europe/Moscow:20260219T140000
DTSTAMP:20260420T131652
CREATED:20260211T060930Z
LAST-MODIFIED:20260211T060937Z
UID:891207-1771506000-1771509600@bobruisk-library.by
SUMMARY:Час общения «Я и мои виртуальные друзья» 6+
DESCRIPTION:
URL:https://bobruisk-library.by/event/%d1%87%d0%b0%d1%81-%d0%be%d0%b1%d1%89%d0%b5%d0%bd%d0%b8%d1%8f-%d1%8f-%d0%b8-%d0%bc%d0%be%d0%b8-%d0%b2%d0%b8%d1%80%d1%82%d1%83%d0%b0%d0%bb%d1%8c%d0%bd%d1%8b%d0%b5-%d0%b4%d1%80%d1%83%d0%b7%d1%8c/
LOCATION:ЦГБ им. М.Горького\, ул. Советская\, 64\, Бобруйск\, 213826\, Беларусь
END:VEVENT
BEGIN:VEVENT
DTSTART;TZID=Europe/Moscow:20260219T130000
DTEND;TZID=Europe/Moscow:20260219T140000
DTSTAMP:20260420T131652
CREATED:20260211T061152Z
LAST-MODIFIED:20260211T061152Z
UID:891211-1771506000-1771509600@bobruisk-library.by
SUMMARY:Познавательно-игровая программа «Красив в строю\,  силён в бою» (Ко Дню защитника Отечества) 6+
DESCRIPTION:
URL:https://bobruisk-library.by/event/%d0%bf%d0%be%d0%b7%d0%bd%d0%b0%d0%b2%d0%b0%d1%82%d0%b5%d0%bb%d1%8c%d0%bd%d0%be-%d0%b8%d0%b3%d1%80%d0%be%d0%b2%d0%b0%d1%8f-%d0%bf%d1%80%d0%be%d0%b3%d1%80%d0%b0%d0%bc%d0%bc%d0%b0-%d0%ba%d1%80/
LOCATION:ДБ №6 им. Н.А.Островского\, ул. Комсомольская\, 52\, Бобруйск\, 213826\, Беларусь
END:VEVENT
END:VCALENDAR