BEGIN:VCALENDAR
VERSION:2.0
PRODID:-//Учреждение культуры &quot;Библиотечная система города Бобруйска&quot; - ECPv6.15.20//NONSGML v1.0//EN
CALSCALE:GREGORIAN
METHOD:PUBLISH
X-ORIGINAL-URL:https://bobruisk-library.by
X-WR-CALDESC:Мероприятия для Учреждение культуры &quot;Библиотечная система города Бобруйска&quot;
REFRESH-INTERVAL;VALUE=DURATION:PT1H
X-Robots-Tag:noindex
X-PUBLISHED-TTL:PT1H
BEGIN:VTIMEZONE
TZID:Europe/Moscow
BEGIN:STANDARD
TZOFFSETFROM:+0300
TZOFFSETTO:+0300
TZNAME:MSK
DTSTART:20250101T000000
END:STANDARD
END:VTIMEZONE
BEGIN:VEVENT
DTSTART;VALUE=DATE:20260216
DTEND;VALUE=DATE:20260223
DTSTAMP:20260420T144635
CREATED:20260211T060743Z
LAST-MODIFIED:20260211T060743Z
UID:891205-1771200000-1771804799@bobruisk-library.by
SUMMARY:Акция «Перакладзі слова – успомні мову» 6+
DESCRIPTION:
URL:https://bobruisk-library.by/event/%d0%b0%d0%ba%d1%86%d0%b8%d1%8f-%d0%bf%d0%b5%d1%80%d0%b0%d0%ba%d0%bb%d0%b0%d0%b4%d0%b7%d1%96-%d1%81%d0%bb%d0%be%d0%b2%d0%b0-%d1%83%d1%81%d0%bf%d0%be%d0%bc%d0%bd%d1%96-%d0%bc%d0%be%d0%b2/
LOCATION:ЦГБ им. М.Горького\, ул. Советская\, 64\, Бобруйск\, 213826\, Беларусь
END:VEVENT
BEGIN:VEVENT
DTSTART;VALUE=DATE:20260220
DTEND;VALUE=DATE:20260222
DTSTAMP:20260420T144635
CREATED:20260211T053704Z
LAST-MODIFIED:20260211T053704Z
UID:891182-1771545600-1771718399@bobruisk-library.by
SUMMARY:Акция-поздравление “Дзіўная\, родная мова…” (21.02. – Международный день родного языка) 6+
DESCRIPTION:
URL:https://bobruisk-library.by/event/%d0%b0%d0%ba%d1%86%d0%b8%d1%8f-%d0%bf%d0%be%d0%b7%d0%b4%d1%80%d0%b0%d0%b2%d0%bb%d0%b5%d0%bd%d0%b8%d0%b5-%d0%b4%d0%b7%d1%96%d1%9e%d0%bd%d0%b0%d1%8f-%d1%80%d0%be%d0%b4%d0%bd%d0%b0%d1%8f-%d0%bc/
LOCATION:ГБ им. А.С.Пушкина\, ул. Советская\, 87\, Бобруйск\, 213827\, Беларусь
END:VEVENT
BEGIN:VEVENT
DTSTART;VALUE=DATE:20260221
DTEND;VALUE=DATE:20260222
DTSTAMP:20260420T144635
CREATED:20260211T054456Z
LAST-MODIFIED:20260211T054456Z
UID:891197-1771632000-1771718399@bobruisk-library.by
SUMMARY:Библиопризыв “Не  палічы лішнім – вазьмі в беларускую кніжку” (в рамках библиотечной акции “Роднай мовы гук чароўны”) 6+
DESCRIPTION:
URL:https://bobruisk-library.by/event/%d0%b1%d0%b8%d0%b1%d0%bb%d0%b8%d0%be%d0%bf%d1%80%d0%b8%d0%b7%d1%8b%d0%b2-%d0%bd%d0%b5-%d0%bf%d0%b0%d0%bb%d1%96%d1%87%d1%8b-%d0%bb%d1%96%d1%88%d0%bd%d1%96%d0%bc-%d0%b2%d0%b0%d0%b7/
LOCATION:ГБ №16\, ул. Гагарина\, 31а\, Бобруйск\, 213810\, Беларусь
END:VEVENT
END:VCALENDAR