BEGIN:VCALENDAR
VERSION:2.0
PRODID:-//Учреждение культуры &quot;Библиотечная система города Бобруйска&quot; - ECPv6.15.20//NONSGML v1.0//EN
CALSCALE:GREGORIAN
METHOD:PUBLISH
X-ORIGINAL-URL:https://bobruisk-library.by
X-WR-CALDESC:Мероприятия для Учреждение культуры &quot;Библиотечная система города Бобруйска&quot;
REFRESH-INTERVAL;VALUE=DURATION:PT1H
X-Robots-Tag:noindex
X-PUBLISHED-TTL:PT1H
BEGIN:VTIMEZONE
TZID:Europe/Moscow
BEGIN:STANDARD
TZOFFSETFROM:+0300
TZOFFSETTO:+0300
TZNAME:MSK
DTSTART:20250101T000000
END:STANDARD
END:VTIMEZONE
BEGIN:VEVENT
DTSTART;TZID=Europe/Moscow:20260223T130000
DTEND;TZID=Europe/Moscow:20260223T140000
DTSTAMP:20260420T113511
CREATED:20260217T130954Z
LAST-MODIFIED:20260217T130954Z
UID:891326-1771851600-1771855200@bobruisk-library.by
SUMMARY:Игровая программа  «Армейское спортлото» 6+
DESCRIPTION:
URL:https://bobruisk-library.by/event/%d0%b8%d0%b3%d1%80%d0%be%d0%b2%d0%b0%d1%8f-%d0%bf%d1%80%d0%be%d0%b3%d1%80%d0%b0%d0%bc%d0%bc%d0%b0-%d0%b0%d1%80%d0%bc%d0%b5%d0%b9%d1%81%d0%ba%d0%be%d0%b5-%d1%81%d0%bf%d0%be%d1%80%d1%82%d0%bb/
LOCATION:ГБ №16\, ул. Гагарина\, 31а\, Бобруйск\, 213810\, Беларусь
END:VEVENT
BEGIN:VEVENT
DTSTART;TZID=Europe/Moscow:20260223T130000
DTEND;TZID=Europe/Moscow:20260223T140000
DTSTAMP:20260420T113511
CREATED:20260217T133259Z
LAST-MODIFIED:20260217T133259Z
UID:891337-1771851600-1771855200@bobruisk-library.by
SUMMARY:Патриотический урок «Праздник мужества и доблести» (23.02. – День защитников Отечества и Вооруженных Сил Республики Беларусь) 6+
DESCRIPTION:
URL:https://bobruisk-library.by/event/%d0%bf%d0%b0%d1%82%d1%80%d0%b8%d0%be%d1%82%d0%b8%d1%87%d0%b5%d1%81%d0%ba%d0%b8%d0%b9-%d1%83%d1%80%d0%be%d0%ba-%d0%bf%d1%80%d0%b0%d0%b7%d0%b4%d0%bd%d0%b8%d0%ba-%d0%bc%d1%83%d0%b6%d0%b5%d1%81/
LOCATION:ЦГБ им. М.Горького\, ул. Советская\, 64\, Бобруйск\, 213826\, Беларусь
END:VEVENT
BEGIN:VEVENT
DTSTART;TZID=Europe/Moscow:20260223T153000
DTEND;TZID=Europe/Moscow:20260223T163000
DTSTAMP:20260420T113511
CREATED:20260217T131255Z
LAST-MODIFIED:20260217T131255Z
UID:891333-1771860600-1771864200@bobruisk-library.by
SUMMARY:Конкурсно-игровая программа «Вперед\,  мальчишки!» (23 февраля – День защитника Отечества и Вооруженных сил Республики Беларусь); (в рамках цикла библиотечных выставок и мероприятий «Славим доблесть\, честь и мужество») 6+
DESCRIPTION:
URL:https://bobruisk-library.by/event/%d0%ba%d0%be%d0%bd%d0%ba%d1%83%d1%80%d1%81%d0%bd%d0%be-%d0%b8%d0%b3%d1%80%d0%be%d0%b2%d0%b0%d1%8f-%d0%bf%d1%80%d0%be%d0%b3%d1%80%d0%b0%d0%bc%d0%bc%d0%b0-%d0%b2%d0%bf%d0%b5%d1%80%d0%b5%d0%b4-2/
LOCATION:ГБ №8 им. Е. Полоцкой\, ул. Минская\, 90\, Бобруйск\, 213828\, Беларусь
END:VEVENT
END:VCALENDAR