BEGIN:VCALENDAR
VERSION:2.0
PRODID:-//Учреждение культуры &quot;Библиотечная система города Бобруйска&quot; - ECPv6.15.20//NONSGML v1.0//EN
CALSCALE:GREGORIAN
METHOD:PUBLISH
X-ORIGINAL-URL:https://bobruisk-library.by
X-WR-CALDESC:Мероприятия для Учреждение культуры &quot;Библиотечная система города Бобруйска&quot;
REFRESH-INTERVAL;VALUE=DURATION:PT1H
X-Robots-Tag:noindex
X-PUBLISHED-TTL:PT1H
BEGIN:VTIMEZONE
TZID:Europe/Moscow
BEGIN:STANDARD
TZOFFSETFROM:+0300
TZOFFSETTO:+0300
TZNAME:MSK
DTSTART:20250101T000000
END:STANDARD
END:VTIMEZONE
BEGIN:VEVENT
DTSTART;TZID=Europe/Moscow:20260305T110000
DTEND;TZID=Europe/Moscow:20260305T120000
DTSTAMP:20260420T113507
CREATED:20260225T055838Z
LAST-MODIFIED:20260225T055838Z
UID:891444-1772708400-1772712000@bobruisk-library.by
SUMMARY:Праздничная программа «Весь мир я маме подарю»  6+
DESCRIPTION:
URL:https://bobruisk-library.by/event/%d0%bf%d1%80%d0%b0%d0%b7%d0%b4%d0%bd%d0%b8%d1%87%d0%bd%d0%b0%d1%8f-%d0%bf%d1%80%d0%be%d0%b3%d1%80%d0%b0%d0%bc%d0%bc%d0%b0-%d0%b2%d0%b5%d1%81%d1%8c-%d0%bc%d0%b8%d1%80-%d1%8f-%d0%bc%d0%b0%d0%bc/
LOCATION:ГБ №16\, ул. Гагарина\, 31а\, Бобруйск\, 213810\, Беларусь
END:VEVENT
BEGIN:VEVENT
DTSTART;TZID=Europe/Moscow:20260305T110000
DTEND;TZID=Europe/Moscow:20260305T120000
DTSTAMP:20260420T113507
CREATED:20260225T060545Z
LAST-MODIFIED:20260303T090228Z
UID:891454-1772708400-1772712000@bobruisk-library.by
SUMMARY:Литературный портрет  “Кандрат Крапіва:  жыццёвы і творчы шлях” (5 марта – 130 лет со дня рождения К.Крапівы) 6+
DESCRIPTION:
URL:https://bobruisk-library.by/event/%d0%bb%d0%b8%d1%82%d0%b5%d1%80%d0%b0%d1%82%d1%83%d1%80%d0%bd%d1%8b%d0%b9-%d0%bf%d0%be%d1%80%d1%82%d1%80%d0%b5%d1%82-%d0%ba%d0%b0%d0%bd%d0%b4%d1%80%d0%b0%d1%82-%d0%ba%d1%80%d0%b0%d0%bf%d1%96/
LOCATION:ЦДБ им. А.П.Гайдара\, ул. Урицкого\, 125\, Бобруйск\, 213809\, Беларусь
END:VEVENT
BEGIN:VEVENT
DTSTART;TZID=Europe/Moscow:20260305T110000
DTEND;TZID=Europe/Moscow:20260305T120000
DTSTAMP:20260420T113507
CREATED:20260225T134850Z
LAST-MODIFIED:20260225T134850Z
UID:891462-1772708400-1772712000@bobruisk-library.by
SUMMARY:Утренник «А сегодня праздник постучался в гости к нам» (К Международному женскому дню) 6+
DESCRIPTION:
URL:https://bobruisk-library.by/event/%d1%83%d1%82%d1%80%d0%b5%d0%bd%d0%bd%d0%b8%d0%ba-%d0%b0-%d1%81%d0%b5%d0%b3%d0%be%d0%b4%d0%bd%d1%8f-%d0%bf%d1%80%d0%b0%d0%b7%d0%b4%d0%bd%d0%b8%d0%ba-%d0%bf%d0%be%d1%81%d1%82%d1%83%d1%87%d0%b0/
LOCATION:ДБ № 5\, ул. 50 лет ВЛКСМ\, 19\, Бобруйск\, 213824\, Беларусь
END:VEVENT
BEGIN:VEVENT
DTSTART;TZID=Europe/Moscow:20260305T120000
DTEND;TZID=Europe/Moscow:20260305T130000
DTSTAMP:20260420T113507
CREATED:20260225T060054Z
LAST-MODIFIED:20260225T060054Z
UID:891448-1772712000-1772715600@bobruisk-library.by
SUMMARY:Игровая программа «8 Марта – день чудес» (8 Марта – Международный женский день) 6+
DESCRIPTION:
URL:https://bobruisk-library.by/event/%d0%b8%d0%b3%d1%80%d0%be%d0%b2%d0%b0%d1%8f-%d0%bf%d1%80%d0%be%d0%b3%d1%80%d0%b0%d0%bc%d0%bc%d0%b0-8-%d0%bc%d0%b0%d1%80%d1%82%d0%b0-%d0%b4%d0%b5%d0%bd%d1%8c-%d1%87%d1%83%d0%b4%d0%b5-2/
LOCATION:ГБ №8 им. Е. Полоцкой\, ул. Минская\, 90\, Бобруйск\, 213828\, Беларусь
END:VEVENT
BEGIN:VEVENT
DTSTART;TZID=Europe/Moscow:20260305T142000
DTEND;TZID=Europe/Moscow:20260305T150000
DTSTAMP:20260420T113507
CREATED:20260225T055427Z
LAST-MODIFIED:20260225T055427Z
UID:891438-1772720400-1772722800@bobruisk-library.by
SUMMARY:Час интересных сообщений «Женское лицо белорусской истории» (Год белорусской женщины) 6+
DESCRIPTION:
URL:https://bobruisk-library.by/event/%d1%87%d0%b0%d1%81-%d0%b8%d0%bd%d1%82%d0%b5%d1%80%d0%b5%d1%81%d0%bd%d1%8b%d1%85-%d1%81%d0%be%d0%be%d0%b1%d1%89%d0%b5%d0%bd%d0%b8%d0%b9-%d0%b6%d0%b5%d0%bd%d1%81%d0%ba%d0%be%d0%b5-%d0%bb%d0%b8/
LOCATION:ГБ №7 им. А.А.Шогенцукова\, ул. Интернациональная\, 72в\, Бобруйск\, 213819
END:VEVENT
END:VCALENDAR