BEGIN:VCALENDAR
VERSION:2.0
PRODID:-//Учреждение культуры &quot;Библиотечная система города Бобруйска&quot; - ECPv6.15.20//NONSGML v1.0//EN
CALSCALE:GREGORIAN
METHOD:PUBLISH
X-ORIGINAL-URL:https://bobruisk-library.by
X-WR-CALDESC:Мероприятия для Учреждение культуры &quot;Библиотечная система города Бобруйска&quot;
REFRESH-INTERVAL;VALUE=DURATION:PT1H
X-Robots-Tag:noindex
X-PUBLISHED-TTL:PT1H
BEGIN:VTIMEZONE
TZID:Europe/Moscow
BEGIN:STANDARD
TZOFFSETFROM:+0300
TZOFFSETTO:+0300
TZNAME:MSK
DTSTART:20250101T000000
END:STANDARD
END:VTIMEZONE
BEGIN:VEVENT
DTSTART;VALUE=DATE:20260324
DTEND;VALUE=DATE:20260325
DTSTAMP:20260420T113506
CREATED:20260317T124851Z
LAST-MODIFIED:20260317T124851Z
UID:891757-1774310400-1774396799@bobruisk-library.by
SUMMARY:Час цифровой грамотности «Наш безопасный Интернет» 6+
DESCRIPTION:
URL:https://bobruisk-library.by/event/%d1%87%d0%b0%d1%81-%d1%86%d0%b8%d1%84%d1%80%d0%be%d0%b2%d0%be%d0%b9-%d0%b3%d1%80%d0%b0%d0%bc%d0%be%d1%82%d0%bd%d0%be%d1%81%d1%82%d0%b8-%d0%bd%d0%b0%d1%88-%d0%b1%d0%b5%d0%b7%d0%be%d0%bf%d0%b0/
LOCATION:ГБ им. А.С.Пушкина\, ул. Советская\, 87\, Бобруйск\, 213827\, Беларусь
END:VEVENT
BEGIN:VEVENT
DTSTART;TZID=Europe/Moscow:20260324T100000
DTEND;TZID=Europe/Moscow:20260324T120000
DTSTAMP:20260420T113506
CREATED:20260317T085943Z
LAST-MODIFIED:20260317T090026Z
UID:891747-1774346400-1774353600@bobruisk-library.by
SUMMARY:Праздник чтения с  участием кукольного  театра «Петрушка» «Да здравствует книга!» 6+
DESCRIPTION:
URL:https://bobruisk-library.by/event/%d0%bf%d1%80%d0%b0%d0%b7%d0%b4%d0%bd%d0%b8%d0%ba-%d1%87%d1%82%d0%b5%d0%bd%d0%b8%d1%8f-%d1%81-%d1%83%d1%87%d0%b0%d1%81%d1%82%d0%b8%d0%b5%d0%bc-%d0%ba%d1%83%d0%ba%d0%be%d0%bb%d1%8c%d0%bd%d0%be%d0%b3-3/
LOCATION:ЦДБ им. А.П.Гайдара\, ул. Урицкого\, 125\, Бобруйск\, 213809\, Беларусь
END:VEVENT
BEGIN:VEVENT
DTSTART;TZID=Europe/Moscow:20260324T110000
DTEND;TZID=Europe/Moscow:20260324T120000
DTSTAMP:20260420T113506
CREATED:20260317T080436Z
LAST-MODIFIED:20260317T080436Z
UID:891737-1774350000-1774353600@bobruisk-library.by
SUMMARY:Сказочно-игровая программа «Волшебные  страницы» (в рамках цикла мероприятий на весенние каникулы «В гостях у книжек»); (к Декаде детской и юношеской книги «С книгой мир добрее и ярче») 6+
DESCRIPTION:
URL:https://bobruisk-library.by/event/%d1%81%d0%ba%d0%b0%d0%b7%d0%be%d1%87%d0%bd%d0%be-%d0%b8%d0%b3%d1%80%d0%be%d0%b2%d0%b0%d1%8f-%d0%bf%d1%80%d0%be%d0%b3%d1%80%d0%b0%d0%bc%d0%bc%d0%b0-%d0%b2%d0%be%d0%bb%d1%88%d0%b5%d0%b1%d0%bd-3/
LOCATION:ГБ №8 им. Е. Полоцкой\, ул. Минская\, 90\, Бобруйск\, 213828\, Беларусь
END:VEVENT
BEGIN:VEVENT
DTSTART;TZID=Europe/Moscow:20260324T110000
DTEND;TZID=Europe/Moscow:20260324T120000
DTSTAMP:20260420T113506
CREATED:20260317T125242Z
LAST-MODIFIED:20260317T125242Z
UID:891761-1774350000-1774353600@bobruisk-library.by
SUMMARY:Краеведческий час “Аб чым расказаў экспанат з дзедавай хаты” 6+
DESCRIPTION:
URL:https://bobruisk-library.by/event/%d0%ba%d1%80%d0%b0%d0%b5%d0%b2%d0%b5%d0%b4%d1%87%d0%b5%d1%81%d0%ba%d0%b8%d0%b9-%d1%87%d0%b0%d1%81-%d0%b0%d0%b1-%d1%87%d1%8b%d0%bc-%d1%80%d0%b0%d1%81%d0%ba%d0%b0%d0%b7%d0%b0%d1%9e-%d1%8d%d0%ba/
LOCATION:ДБ №6 им. Н.А.Островского\, ул. Комсомольская\, 52\, Бобруйск\, 213826\, Беларусь
END:VEVENT
BEGIN:VEVENT
DTSTART;TZID=Europe/Moscow:20260324T150000
DTEND;TZID=Europe/Moscow:20260324T160000
DTSTAMP:20260420T113506
CREATED:20260317T080530Z
LAST-MODIFIED:20260317T080530Z
UID:891739-1774364400-1774368000@bobruisk-library.by
SUMMARY:Деловая игра «Моя страна  – моя Беларусь!» 6+
DESCRIPTION:
URL:https://bobruisk-library.by/event/%d0%b4%d0%b5%d0%bb%d0%be%d0%b2%d0%b0%d1%8f-%d0%b8%d0%b3%d1%80%d0%b0-%d0%bc%d0%be%d1%8f-%d1%81%d1%82%d1%80%d0%b0%d0%bd%d0%b0-%d0%bc%d0%be%d1%8f-%d0%b1%d0%b5%d0%bb%d0%b0%d1%80%d1%83-2/
LOCATION:ГБ №8 им. Е. Полоцкой\, ул. Минская\, 90\, Бобруйск\, 213828\, Беларусь
END:VEVENT
END:VCALENDAR